Workbook
Name Items: #REF!
Name КВСР: [1]список!$D$2:$D$17
Name НаименДолжн: '[1]Штатное расписание'!$B$8:$B$307
Name Организация: OFFSET([1]список!$E$1,MATCH('[1]Данные по учрежд'!$B$2,[1]список!$E$1:$E$65536,0)-1,1,COUNTIF([1]список!$E$1:$E$65536,'[1]Данные по учрежд'!$B$2),1)
Name СубКОСГУ: [1]список!$B$1:$B$17
Name ТипСредств: [1]список!$C$2:$C$8
Name ЭКР: [1]список!$A$2:$A$21

Sheet Ведом
A2: Приложение 4
A3: к решению Собрания представителей
A4: муниципального района Клявлинский Самарской области
A5: "О бюджете муниципального района Клявлинский Самарской области
A6: на 2024 год и плановый период 2025 и 2026 годов"
A8: 0 | B8: ЕСЛИ(E7=0;ЕСЛИ(D7=0;ЕСЛИ(C7=0;ИНДЕКС(ГРБС!B$1:B$10;ПОИСКПОЗ(A7;ГРБС!A$1:A$10;0));ИНДЕКС(ФКР!B$1:B$113;ПОИСКПОЗ(ЛЕВСИМВ(ЗНАЧЕН(C7);4);ЛЕВСИМВ(ЗНАЧЕН(ФКР!A$1:A$113);4);0)));ИНДЕКС(КЦСР!B$1:B$1024;ПОИСКПОЗ(ЛЕВСИМВ(ЗНАЧЕН(D7);7);ЛЕВСИМВ(ЗНАЧЕН(КЦСР!A$1:A$1024);7);0)));ИНДЕКС(КВР!B$1:B$150;ПОИСКПОЗ(ЛЕВСИМВ(ЗНАЧЕН(E7);3);ЛЕВСИМВ(ЗНАЧЕН(КВР!A$1:A$150);3);0))) | C8: 0 | D8: 0 | E8: 0 | F8: 0 | G8: 0
A9: Ведомственная структура расходов бюджета муниципального района Клявлинский Самарской области на 2024 год
A11: код ГРБС | B11: Наименование главного распорядителя средств муниципального бюджета, раздела подраздела, целевой статьи, групп и подгрупп видов расходов | C11: Рз Пр | D11: ЦСР | E11: ВР | F11: Сумма, тыс. руб.
F13: Всего | G13: в том числе за счет безвозмезд-ных поступлений имеющие целевое назначение из вышестоящих бюджетов
A15: 922 | B15: Муниципальное казенное учреждение "Управление финансами муниципального района Клявлинский Самарской области" | C15: 0 | D15: 0 | E15: 0 | F15: =F16+F26+F34+F41+F45+F49+F53 -> 56176.163 | G15: =G16+G26+G34+G41+G45+G49+G53 -> 390
A16: 0 | B16: Функционирование Правительства Российской Федерации, высших исполнительных органов государственной власти субъектов Российской Федерации, местных администраций | C16: 104 | D16: 0 | E16: 0 | F16: =F17 -> 813.915 | G16: 0
A17: 0 | B17: Муниципальная программа "Управление муниципальными финансами и развитие межбюджетных отношений на 2018-2027 годы" | C17: 104 | D17: 0100000000 | E17: 0 | F17: =F18+F20 -> 813.915 | G17: 0
A18: 0 | B18: Расходы на выплаты персоналу в целях обеспечения выполнения функций государственными (муниципальными) органами, казенными учреждениями, органами управления государственными внебюджетными фондами | C18: 104 | D18: 0100000000 | E18: 100 | F18: =F19 -> 813.915 | G18: 0
A19: 0 | B19: Расходы на выплаты персоналу казенных учреждений | C19: 104 | D19: 0100000000 | E19: 110 | F19: 813.915 | G19: 0
A20: 0 | B20: Закупка товаров, работ и услуг для обеспечения государственных (муниципальных) нужд | C20: 104 | D20: 0100000000 | E20: 200 | F20: =F21 -> 0 | G20: 0
A21: 0 | B21: Иные закупки товаров, работ и услуг для обеспечения государственных (муниципальных) нужд | C21: 104 | D21: 0100000000 | E21: 240 | G21: 0
A22: 0 | B22: Иные бюджетные ассигнования | C22: 104 | D22: 0100111000 | E22: 800 | F22: 0 | G22: 0
A23: 0 | B23: Уплата налогов, сборов и иных платежей | C23: 104 | D23: 0100111000 | E23: 850 | F23: 0 | G23: 0
B24: Иные бюджетные ассигнования | C24: 104 | D24: 0100111000 | E24: 800 | F24: =F25 -> 0
B25: Уплата налогов, сборов и иных платежей | C25: 104 | D25: 0100111000 | E25: 850 | F25: 0
A26: 0 | B26: Обеспечение деятельности финансовых, налоговых и таможенных органов и органов финансового (финансово-бюджетного) надзора | C26: 106 | D26: 0 | E26: 0 | F26: =F27 -> 13672.424 | G26: 0
A27: 0 | B27: Муниципальная программа "Управление муниципальными финансами и развитие межбюджетных отношений на 2018-2027 годы" | C27: 106 | D27: 0100000000 | E27: 0 | F27: =F28+F30+F32 -> 13672.424 | G27: 0
A28: 0 | B28: Расходы на выплаты персоналу в целях обеспечения выполнения функций государственными (муниципальными) органами, казенными учреждениями, органами управления государственными внебюджетными фондами | C28: 106 | D28: 0100000000 | E28: 100 | F28: =F29 -> 13128.707 | G28: 0
A29: 0 | B29: Расходы на выплаты персоналу казенных учреждений | C29: 106 | D29: 0100000000 | E29: 110 | F29: 13128.707 | G29: 0
A30: 0 | B30: Закупка товаров, работ и услуг для обеспечения государственных (муниципальных) нужд | C30: 106 | D30: 0100000000 | E30: 200 | F30: =F31 -> 543.717 | G30: 0
A31: 0 | B31: Иные закупки товаров, работ и услуг для обеспечения государственных (муниципальных) нужд | C31: 106 | D31: 0100000000 | E31: 240 | F31: 543.717 | G31: 0
A32: 0 | B32: Иные бюджетные ассигнования | C32: 106 | D32: 0100000000 | E32: 800 | F32: =F33 -> 0 | G32: 0
A33: 0 | B33: Уплата налогов, сборов и иных платежей | C33: 106 | D33: 0100000000 | E33: 850 | G33: 0
B34: Другие общегосударственные вопросы | C34: 113 | F34: =F35+F38 -> 0
B35: Муниципальная программа "Управление муниципальными финансами и развитие межбюджетных отношений на 2018-2026 годы" | C35: 113 | D35: 0100000000 | F35: =F36 -> 0
B36: Закупка товаров, работ и услуг для обеспечения государственных (муниципальных) нужд | C36: 113 | D36: 0100000000 | E36: 200 | F36: =F37 -> 0
B37: Иные закупки товаров, работ и услуг для обеспечения государственных (муниципальных) нужд | C37: 113 | D37: 0100000000 | E37: 240
B38: Муниципальная программа "Профилактика правонарушений и обеспечение общественной безопасности в муниципальном районе Клявлинский на 2020-2026 годы" | C38: 113 | D38: 4800000000 | F38: =F39 -> 0
B39: Закупка товаров, работ и услуг для обеспечения государственных (муниципальных) нужд | C39: 113 | D39: 4800000000 | E39: 200 | F39: =F40 -> 0
B40: Иные закупки товаров, работ и услуг для обеспечения государственных (муниципальных) нужд | C40: 113 | D40: 4800000000 | E40: 240
A41: 0 | B41: Общее образование | C41: 702 | D41: 0 | E41: 0 | F41: =F42 -> 1007.154 | G41: 0
A42: 0 | B42: Муниципальная программа "Управление муниципальными финансами и развитие межбюджетных отношений на 2018-2027 годы" | C42: 702 | D42: 0100000000 | E42: 0 | F42: =F43 -> 1007.154 | G42: 0
A43: 0 | B43: Межбюджетные трансферты | C43: 702 | D43: 0100000000 | E43: 500 | F43: =F44 -> 1007.154 | G43: 0
A44: 0 | B44: Иные межбюджетные трансферты | C44: 702 | D44: 0100000000 | E44: 540 | F44: 1007.154 | G44: 0
A45: 0 | B45: Обслуживание государственного (муниципального) внутреннего долга | C45: 1301 | D45: 0 | E45: 0 | F45: =F46 -> 2020 | G45: 0
...

Sheet Для работы 
A2: КВР | B2: ЕСЛИ(C7=0;ЕСЛИ(B7=0;ИНДЕКС(ФКР!B$1:B$113;ПОИСКПОЗ(ЛЕВСИМВ(ЗНАЧЕН(A7);4);ЛЕВСИМВ(ЗНАЧЕН(ФКР!A$1:A$113);4);0));ИНДЕКС(КЦСР!B$1:B$1024;ПОИСКПОЗ(ЛЕВСИМВ(ЗНАЧЕН(B7);7);ЛЕВСИМВ(ЗНАЧЕН(КЦСР!A$1:A$1024);7);0)));ИНДЕКС(КВР!B$1:B$150;ПОИСКПОЗ(ЛЕВСИМВ(ЗНАЧЕН(C7);3);ЛЕВСИМВ(ЗНАЧЕН(КВР!A$1:A$150);3);0))) | C2: 0 | D2: 0
A3: Распределение бюджетных ассигнований по разделам, подразделам классификации расходов бюджетов муниципального района Клявлинский Самарской области на 2024 год
A5: Рз Пр | B5: Наименование раздела, подраздела расходов | C5: Сумма, тыс. руб.
C7: Всего | D7: в том числе за счет безвозмезд-ных поступлений имеющие целевое назначение из вышестоящих бюджетов
A8: 0100 | B8: ОБЩЕГОСУДАРСТВЕННЫЕ ВОПРОСЫ | C8: =C9+C10+C11+C12+C14+C15 -> 85926.42 | D8: =D9+D10+D11+D12+D14+D15 -> 5348.26
A9: 102 | B9: Функционирование высшего должностного лица субъекта Российской Федерации и муниципального образования | C9: =Ведом!F156 -> 2955.437 | D9: =Ведом!G156 -> 0
A10: 104 | B10: Функционирование Правительства Российской Федерации, высших исполнительных органов государственной власти субъектов Российской Федерации, местных администраций | C10: =Ведом!F160+Ведом!F16 -> 18448.746 | D10: =Ведом!G16+Ведом!G160 -> 837.511
A11: 105 | B11: Судебная система | C11: =Ведом!F185 -> 5.514 | D11: =Ведом!G185 -> 5.514
A12: 106 | B12: Обеспечение деятельности финансовых, налоговых и таможенных органов и органов финансового (финансово-бюджетного) надзора | C12: =Ведом!F26+Ведом!F351 -> 15086.156 | D12: =Ведом!G26 -> 0
A13: 107 | B13: Обеспечение проведения выборов и референдумов
A14: 111 | B14: Резервные фонды | C14: =Ведом!F190 -> 100 | D14: =Ведом!G190 -> 0
A15: 113 | B15: Другие общегосударственные вопросы | C15: =Ведом!F58+Ведом!F198+Ведом!F34 -> 49330.567 | D15: =Ведом!G58+Ведом!G198 -> 4505.235
A16: 113 | B16: Непрограммные направления расходов местного бюджета | C16: =C17+C21 -> 0 | D16: =D17+D21 -> 0
A17: 113 | B17: Закупка товаров, работ и услуг для муниципальных нужд | C17: =C18 -> 0
A18: 113 | B18: Реализация функций управления муниципальным образованием общего значения | C18: =C19 -> 0
A19: 113 | B19: Закупка товаров, работ и услуг для обеспечения государственных (муниципальных) нужд | C19: =C20 -> 0
A20: 113 | B20: Иные закупки товаров, работ и услуг для обеспечения государственных (муниципальных) нужд | C20: =Ведом!F73+Ведом!F234 -> 0
A21: 113 | B21: Иные направления расходов | C21: =C22 -> 0 | D21: =D22 -> 0
A22: 113 | B22: Иные бюджетные ассигнования | C22: =C23 -> 0 | D22: =D23 -> 0
A23: 113 | B23: Исполнение судебных актов | C23: =Ведом!F230 -> 0
A24: 0400 | B24: НАЦИОНАЛЬНАЯ ЭКОНОМИКА | C24: =C25+C26+C27+C28 -> 29687.451 | D24: =D25+D26+D27+D28 -> 8904.049
A25: 405 | B25: Сельское хозяйство и рыболовство | C25: =Ведом!F238 -> 13350.502 | D25: =Ведом!G238 -> 8813.077
A26: 408 | B26: Транспорт | C26: =Ведом!F273 -> 1871.31 | D26: =Ведом!G273 -> 0
A27: 409 | B27: Дорожное хозяйство (дорожные фонды) | C27: =Ведом!F74 -> 13705.469 | D27: =Ведом!G74 -> 0
A28: 412 | B28: Другие вопросы в области национальной экономики | C28: =Ведом!F78+Ведом!F287 -> 760.17 | D28: =Ведом!G78+Ведом!G287 -> 90.972
A29: 0500 | B29: ЖИЛИЩНО-КОММУНАЛЬНОЕ ХОЗЯЙСТВО | C29: =C30+C31+C32 -> 1994.718 | D29: =D30+D31+D32 -> 0
A30: 501 | B30: Жилищное хозяйство | C30: =Ведом!F89 -> 260 | D30: 0
A31: 502 | B31: Коммунальное хозяйство | C31: =Ведом!F294 -> 0 | D31: =Ведом!G294 -> 0
A32: 503 | B32: Благоустройство | C32: =Ведом!F99 -> 1734.718 | D32: =Ведом!G99 -> 0
A33: 600 | B33: Охрана окружающей среды | C33: =C34 -> 304 | D33: =D34 -> 300
A34: 605 | B34: Другие вопросы в области охраны окружающей среды | C34: =Ведом!F100 -> 304 | D34: =Ведом!G100 -> 300
A35: 0700 | B35: ОБРАЗОВАНИЕ | C35: =C36+C44+C45+C46 -> 73773.135 | D35: =D36+D44+D45+D46 -> 16743.245
A36: 701 | B36: Дошкольное образование | C36: =Ведом!F298 -> 12862.73 | D36: =Ведом!G298 -> 470
A37: 701 | B37: Расходы местного бюджета, источником финансового обеспечения которых являются субсидии из областного бюджета, а также расходы местных бюджетов, в целях софинансирования которых из областного бюджета предоставляются местным бюджетам субсидии | C37: =C38 -> #REF! | D37: =D38 -> #REF!
A38: 701 | B38: Субсидии местным бюджетам для софинансирования расходных обязательств по вопросам местного значения, предоставляемых с учетом выполнения показателей социально-экономического развития (стимулирующие субсидии) | C38: =C41 -> #REF! | D38: =D41 -> #REF!
A39: 701 | B39: Субсидии местным бюджетам для софинансирования расходных обязательств по вопросам местного значения, предоставляемых с учетом выполнения показателей социально-экономического развития (стимулирующие субсидии) | C39: 0 | D39: 0
A40: 701 | B40: Субсидии местным бюджетам для софинансирования расходных обязательств по вопросам местного значения, предоставляемых с учетом выполнения показателей социально-экономического развития (стимулирующие субсидии) | C40: 0 | D40: 0
A41: 701 | B41: Расходы местного бюджета за счет стимулирующих субсидий, направленные на обеспечение организации образовательного процесса в сфере образования | C41: =C42 -> #REF! | D41: =D42 -> #REF!
A42: 701 | B42: Предоставление субсидий бюджетным, автономным учреждениям и иным некоммерческим организациям | C42: =C43 -> #REF! | D42: =D43 -> #REF!
A43: 701 | B43: Субсидии автономным учреждениям | C43: =Ведом!#REF! -> #REF! | D43: =Ведом!#REF! -> #REF!
...

Sheet ЦСР_МП
E2: Приложение 6
E3: к решению Собрания представителей
E4: муниципального района Клявлинский Самарской области
E5: "О бюджете муниципального района Клявлинский Самарской области
E6: на 2024 год и плановый период 2025 и 2026 годов"
A8: Распределение бюджетных ассигнований по целевым статьям (муниципальным программам и непрограммным направлениям деятельности), группам (группам и подгруппам) видов расходов классификации расходов бюджета муниципального района Клявлинский Самарской области на 2024 год.
A10: Наименование | B10: ЦСР | C10: ВР | D10: Сумма, тыс. руб.
D11: Всего | E11: в том числе за счет безвозмезд-ных поступлений имеющие целевое назначение из вышестоящих бюджетов
A12: Муниципальная программа "Управление муниципальными финансами и развитие межбюджетных отношений на 2018-2027 годы" | B12: =Ведом!D17 -> 0100000000 | D12: =D13+D15+D22+D17+D20 -> 56176.163 | E12: =E13+E15+E22+E17+E20 -> 390
A13: Расходы на выплаты персоналу в целях обеспечения выполнения функций государственными (муниципальными) органами, казенными учреждениями, органами управления государственными внебюджетными фондами | B13: 0100000000 | C13: 100 | D13: =D14 -> 13942.622 | E13: =E14 -> 0
A14: Расходы на выплаты персоналу казенных учреждений | B14: 0100000000 | C14: 110 | D14: =Ведом!F19+Ведом!F29 -> 13942.622 | E14: =Ведом!G19+Ведом!G29 -> 0
A15: Закупка товаров, работ и услуг для обеспечения государственных (муниципальных) нужд | B15: 0100000000 | C15: 200 | D15: =D16 -> 543.717 | E15: =E16 -> 0
A16: Иные закупки товаров, работ и услуг для обеспечения государственных (муниципальных) нужд | B16: 0100000000 | C16: 240 | D16: =Ведом!F21+Ведом!F31+Ведом!F37 -> 543.717 | E16: =Ведом!G21+Ведом!G31+Ведом!G37 -> 0
A17: Межбюджетные трансферты | B17: 0100000000 | C17: 500 | D17: =D18+D19 -> 39669.824 | E17: =E18+E19 -> 390
A18: Дотации | B18: 0100000000 | C18: 510 | D18: =Ведом!F52 -> 24915 | E18: =Ведом!G52+Ведом!G56 -> 390
A19: Иные межбюджетные трансферты | B19: 0100000000 | C19: 540 | D19: =Ведом!F44+Ведом!F56 -> 14754.824 | E19: =Ведом!G44 -> 0
A20: Обслуживание государственного (муниципального) долга | B20: 0100000000 | C20: 700 | D20: =D21 -> 2020 | E20: =E21 -> 0
A21: Обслуживание муниципального долга | B21: 0100000000 | C21: 730 | D21: =Ведом!F48 -> 2020 | E21: =Ведом!G48 -> 0
A22: Иные бюджетные ассигнования | B22: 0100000000 | C22: 800 | D22: =D23 -> 0 | E22: =E23 -> 0
A23: Уплата налогов, сборов и иных платежей | B23: 0100000000 | C23: 850 | D23: =Ведом!F33 -> 0 | E23: =Ведом!G33 -> 0
A24: Муниципальная программа "Управление имуществом муниципального района Клявлинский на 2019-2027 годы" | B24: =Ведом!D59 -> 0200000000 | D24: =D25+D27+D31+D33+D29 -> 14526.918 | E24: =E25+E27+E31+E33+E29 -> 10076.972
A25: Расходы на выплаты персоналу в целях обеспечения выполнения функций государственными (муниципальными) органами, казенными учреждениями, органами управления государственными внебюджетными фондами | B25: 0200000000 | C25: 100 | D25: =D26 -> 2360.066 | E25: =E26 -> 0
A26: Расходы на выплаты персоналу казенных учреждений | B26: 0200000000 | C26: 110 | D26: =Ведом!F61 -> 2360.066 | E26: =Ведом!G61 -> 0
A27: Закупка товаров, работ и услуг для обеспечения государственных (муниципальных) нужд | B27: 0200000000 | C27: 200 | D27: =D28 -> 1938.852 | E27: =E28 -> 390.972
A28: Иные закупки товаров, работ и услуг для обеспечения государственных (муниципальных) нужд | B28: 0200000000 | C28: 240 | D28: =Ведом!F63+Ведом!F95+Ведом!F81+Ведом!F103 -> 1938.852 | E28: =Ведом!G63+Ведом!G95+Ведом!G81+Ведом!G103 -> 390.972
A29: Социальное обеспечение и иные выплаты населению | B29: 0200000000 | C29: 300 | D29: =D30 -> 2645 | E29: =E30 -> 2645
A30: Социальные выплаты гражданам, кроме публичных нормативных социальных выплат | B30: 0200000000 | C30: 320 | D30: =Ведом!F118+Ведом!F128 -> 2645 | E30: =Ведом!G118+Ведом!G128 -> 2645
A31: Капитальные вложения в объекты государственной (муниципальной) собственности | B31: 0200000000 | C31: 400 | D31: =D32 -> 7041 | E31: =E32 -> 7041
A32: Бюджетные инвестиции | B32: 0200000000 | C32: 410 | D32: =Ведом!F130 -> 7041 | E32: =Ведом!G130 -> 7041
A33: Иные бюджетные ассигнования | B33: 0200000000 | C33: 800 | D33: =D34 -> 542 | E33: =E34 -> 0
A34: Уплата налогов, сборов и иных платежей | B34: 0200000000 | C34: 850 | D34: =Ведом!F65 -> 542 | E34: =Ведом!G65 -> 0
A35: Муниципальная программа "Развитие сельского хозяйства и регулирования рынков сельскохозяйственной продукции, сырья и продовольствия в муниципальном районе Клявлинский на 2019-2027 годы" | B35: =Ведом!D239 -> 0300000000 | D35: =D36+D38+D40 -> 13350.502 | E35: =E36+E38+E40 -> 8813.077
A36: Расходы на выплаты персоналу в целях обеспечения выполнения функций государственными (муниципальными) органами, казенными учреждениями, органами управления государственными внебюджетными фондами | B36: 0300000000 | C36: 100 | D36: =D37 -> 7649.845 | E36: =E37 -> 3328.861
A37: Расходы на выплаты персоналу государственных (муниципальных) органов | B37: 0300000000 | C37: 120 | D37: =Ведом!F246 -> 7649.845 | E37: =Ведом!G246 -> 3328.861
A38: Закупка товаров, работ и услуг для обеспечения государственных (муниципальных) нужд | B38: 0300000000 | C38: 200 | D38: =D39 -> 787.413 | E38: =E39 -> 570.972
A39: Иные закупки товаров, работ и услуг для обеспечения государственных (муниципальных) нужд | B39: 0300000000 | C39: 240 | D39: =Ведом!F248 -> 787.413 | E39: =Ведом!G248 -> 570.972
A40: Иные бюджетные ассигнования | B40: 0300000000 | C40: 800 | D40: =D41 -> 4913.244 | E40: =E41 -> 4913.244
A41: Субсидии юридическим лицам (кроме некоммерческих организаций), индивидуальным предпринимателям, физическим лицам - производителям товаров, работ, услуг | B41: 0300000000 | C41: 810 | D41: =Ведом!F263 -> 4913.244 | E41: =Ведом!G263 -> 4913.244
A42: Муниципальная программа "Снижение административных барьеров, повышение качества предоставления государственных и муниципальных услуг" на базе "Многофункционального центра предоставления государственных и муниципальных услуг" муниципального района Клявлинский Самарской области на 2012-2027 годы" | B42: =Ведом!D66 -> 0400000000 | D42: =D43 -> 26874.157 | E42: =E43 -> 0
A43: Предоставление субсидий бюджетным, автономным учреждениям и иным некоммерческим организациям | B43: 0400000000 | C43: 600 | D43: =D44 -> 26874.157 | E43: =E44 -> 0
...

Sheet ФКР_МП
G1: Приложение 8
G2: к решению Собрания представителей
G3: муниципального района Клявлинский Самарской области
G4: "О бюджете муниципального района Клявлинский Самарской области
G5: на 2024 год и плановый период 2025 и 2026 годов"
A7: Распределение бюджетных ассигнований по разделам, подразделам, целевым статьям (муниципальным программам и непрограммным направлениям деятельности), группам (группам и подгруппам) видов расходов классификации расходов бюджета муниципального района Клявлинский Самарской области на 2024 год.
A9: Наименование | B9: Рз | C9: ПР | D9: ЦСР | E9: ВР | F9: Сумма, тыс. руб.
F10: Всего | G10: в том числе за счет безвозмезд-ных поступлений имеющие целевое назначение из вышестоящих бюджетов
A11: ИТОГО | F11: =F12+F97+F123+F132+F137+F166+F174+F208+F216+F221+F226 -> 304415.22 | G11: =G12+G97+G123+G132+G137+G166+G174+G208+G216+G221+G226 -> 51393.233
A12: ОБЩЕГОСУДАРСТВЕННЫЕ ВОПРОСЫ | B12: 01 | C12: 00 | F12: =F13+F17+F40+F44+F59+F63 -> 85926.42 | G12: =G13+G17+G40+G44+G59+G63 -> 5348.26
A13: Функционирование высшего должностного лица субъекта Российской Федерации и муниципального образования | B13: 01 | C13: 02 | F13: =F14 -> 2955.437 | G13: =G14 -> 0
A14: Муниципальная программа "Развитие муниципального управления и эффективная деятельность органов местного самоуправления в муниципальном районе Клявлинский Самарской области на 2024 – 2030 годы" | B14: 01 | C14: 02 | D14: 1800000000 | F14: =F15 -> 2955.437 | G14: =G15 -> 0
A15: Расходы на выплаты персоналу в целях обеспечения выполнения функций государственными (муниципальными) органами, казенными учреждениями, органами управления государственными внебюджетными фондами | B15: 01 | C15: 02 | D15: 1800000000 | E15: 100 | F15: =F16 -> 2955.437 | G15: =G16 -> 0
A16: Расходы на выплаты персоналу государственных (муниципальных) органов | B16: 01 | C16: 02 | D16: 1800000000 | E16: 120 | F16: =Ведом!F159 -> 2955.437 | G16: =Ведом!G159 -> 0
A17: Функционирование Правительства Российской Федерации, высших исполнительных органов государственной власти субъектов Российской Федерации, местных администраций | B17: 01 | C17: 04 | F17: =F18+F21+F26+F35 -> 18448.746 | G17: =G18+G21+G26+G35 -> 837.511
A18: Муниципальная программа "Управление муниципальными финансами и развитие межбюджетных отношений на 2018-2027 годы" | B18: 01 | C18: 04 | D18: 0100000000 | F18: =F19 -> 813.915
A19: Расходы на выплаты персоналу в целях обеспечения выполнения функций государственными (муниципальными) органами, казенными учреждениями, органами управления государственными внебюджетными фондами | B19: 01 | C19: 04 | D19: 0100000000 | E19: 100 | F19: =F20 -> 813.915
A20: Расходы на выплаты персоналу казенных учреждений | B20: 01 | C20: 04 | D20: 0100000000 | E20: 110 | F20: =Ведом!F19 -> 813.915
A21: Муниципальная программа "Природоохранные мероприятия на территории муниципального района Клявлинский на 2023-2027 гг." | B21: 01 | C21: 04 | D21: 1200000000 | F21: =F22+F24 -> 235.07 | G21: =G22+G24 -> 235.07
A22: Расходы на выплаты персоналу в целях обеспечения выполнения функций государственными (муниципальными) органами, казенными учреждениями, органами управления государственными внебюджетными фондами | B22: 01 | C22: 04 | D22: 1200000000 | E22: 100 | F22: =F23 -> 205.078 | G22: =G23 -> 205.078
A23: Расходы на выплаты персоналу государственных (муниципальных) органов | B23: 01 | C23: 04 | D23: 1200000000 | E23: 120 | F23: =Ведом!F163 -> 205.078 | G23: =Ведом!G163 -> 205.078
A24: Закупка товаров, работ и услуг для обеспечения государственных (муниципальных) нужд | B24: 01 | C24: 04 | D24: 1200000000 | E24: 200 | F24: =F25 -> 29.992 | G24: =G25 -> 29.992
A25: Иные закупки товаров, работ и услуг для обеспечения государственных (муниципальных) нужд | B25: 01 | C25: 04 | D25: 1200000000 | E25: 240 | F25: =Ведом!F165 -> 29.992 | G25: =Ведом!G165 -> 29.992
A26: Муниципальная программа "Развитие муниципального управления и эффективная деятельность органов местного самоуправления в муниципальном районе Клявлинский Самарской области на 2024 – 2030 годы" | B26: 01 | C26: 04 | D26: 1800000000 | F26: =F27+F29+F31+F33 -> 16797.32 | G26: =G27+G29+G31+G33 -> 0
A27: Расходы на выплаты персоналу в целях обеспечения выполнения функций государственными (муниципальными) органами, казенными учреждениями, органами управления государственными внебюджетными фондами | B27: 01 | C27: 04 | D27: 1800000000 | E27: 100 | F27: =F28 -> 14676.268 | G27: =G28 -> 0
A28: Расходы на выплаты персоналу государственных (муниципальных) органов | B28: 01 | C28: 04 | D28: 1800000000 | E28: 120 | F28: =Ведом!F173 -> 14676.268 | G28: 0
A29: Закупка товаров, работ и услуг для обеспечения государственных (муниципальных) нужд | B29: 01 | C29: 04 | D29: 1800000000 | E29: 200 | F29: =F30 -> 2010.049 | G29: =G30 -> 0
A30: Иные закупки товаров, работ и услуг для обеспечения государственных (муниципальных) нужд | B30: 01 | C30: 04 | D30: 1800000000 | E30: 240 | F30: =Ведом!F175 -> 2010.049 | G30: 0
A31: Иные бюджетные ассигнования | B31: 01 | C31: 04 | D31: 1800000000 | E31: 800 | F31: =F32 -> 111.003 | G31: =G32 -> 0
A32: Уплата налогов, сборов и иных платежей | B32: 01 | C32: 04 | D32: 1800000000 | E32: 850 | F32: =Ведом!F179 -> 111.003 | G32: =Ведом!G179 -> 0
A33: Социальное обеспечение и иные выплаты населению | B33: 01 | C33: 04 | D33: 1800000000 | E33: 300 | F33: =F34 -> 0 | G33: =G34 -> 0
A34: Социальные выплаты гражданам, кроме публичных нормативных социальных выплат | B34: 01 | C34: 04 | D34: 1800000000 | E34: 320
A35: Муниципальная программа "Улучшение условий охраны труда в муниципальном районе Клявлинский Самарской области на 2021-2027 годы" | B35: 01 | C35: 04 | D35: 1900000000 | F35: =F36+F38 -> 602.441 | G35: =G36+G38 -> 602.441
A36: Расходы на выплаты персоналу в целях обеспечения выполнения функций государственными (муниципальными) органами, казенными учреждениями, органами управления государственными внебюджетными фондами | B36: 01 | C36: 04 | D36: 1900000000 | E36: 100 | F36: =F37 -> 537.894 | G36: =G37 -> 537.894
A37: Расходы на выплаты персоналу государственных (муниципальных) органов | B37: 01 | C37: 04 | D37: 1900000000 | E37: 120 | F37: =Ведом!F182 -> 537.894 | G37: =Ведом!G182 -> 537.894
A38: Закупка товаров, работ и услуг для обеспечения государственных (муниципальных) нужд | B38: 01 | C38: 04 | D38: 1900000000 | E38: 200 | F38: =F39 -> 64.547 | G38: =G39 -> 64.547
A39: Иные закупки товаров, работ и услуг для обеспечения государственных (муниципальных) нужд | B39: 01 | C39: 04 | D39: 1900000000 | E39: 240 | F39: =Ведом!F184 -> 64.547 | G39: =Ведом!G184 -> 64.547
A40: Судебная система | B40: 01 | C40: 05 | F40: =F41 -> 5.514 | G40: =G41 -> 5.514
A41: Муниципальная программа "Развитие муниципального управления и эффективная деятельность органов местного самоуправления в муниципальном районе Клявлинский Самарской области на 2024 – 2030 годы" | B41: 01 | C41: 05 | D41: 1800000000 | F41: =F42 -> 5.514 | G41: =G42 -> 5.514
A42: Предоставление субсидий бюджетным, автономным учреждениям и иным некоммерческим организациям | B42: 01 | C42: 05 | D42: 1800000000 | E42: 600 | F42: =F43 -> 5.514 | G42: =G43 -> 5.514
...
